BEGIN:VCALENDAR
VERSION:2.0
PRODID:-//jEvents 2.0 for Joomla//EN
CALSCALE:GREGORIAN
METHOD:PUBLISH
BEGIN:VEVENT
UID:CSVConvert7cd8bed59e687b3455b503823755183d
CATEGORIES:Dienstplan Einsatzabteilung 
CREATED:20210106T203959
SUMMARY:Ausbilder Standortebene - Dienstplan 2022
LOCATION:Schwieberdingen
DESCRIPTION;ENCODING=QUOTED-PRINTABLE:Übung - Ausbilder Standortebene - Themenblock: Dienstplan 2022 - Ausbilder:
  SG
DTSTAMP:20260422T120106Z
DTSTART:20211208T190000Z
DTEND:20211208T203000Z
SEQUENCE:0
TRANSP:OPAQUE
END:VEVENT
END:VCALENDAR