BEGIN:VCALENDAR
VERSION:2.0
PRODID:-//jEvents 2.0 for Joomla//EN
CALSCALE:GREGORIAN
METHOD:PUBLISH
BEGIN:VEVENT
UID:CSVConvert0eb6070a1fe5ca02fc05c18b94bff75a
CATEGORIES:Dienstplan Einsatzabteilung 
CREATED:20210106T203959
SUMMARY:Feuerwehrausschuss - gemäß TOP
LOCATION:Schwieberdingen
DESCRIPTION;ENCODING=QUOTED-PRINTABLE:Sitzung - Feuerwehrausschuss - Themenblock: gemäß TOP - Ausbilder: JJ
DTSTAMP:20260422T012647Z
DTSTART:20210414T180000Z
DTEND:20210414T193000Z
SEQUENCE:0
TRANSP:OPAQUE
END:VEVENT
END:VCALENDAR