BEGIN:VCALENDAR
VERSION:2.0
PRODID:-//jEvents 2.0 for Joomla//EN
CALSCALE:GREGORIAN
METHOD:PUBLISH
BEGIN:VEVENT
UID:CSVConvert425a19030aacd21f8049dbd52e0ebd2d
CATEGORIES:Dienstplan Einsatzabteilung 
CREATED:20210106T203959
SUMMARY:Feuerwehrausschuss - gemäß TOP
LOCATION:Schwieberdingen
DESCRIPTION;ENCODING=QUOTED-PRINTABLE:Sitzung - Feuerwehrausschuss - Themenblock: gemäß TOP - Ausbilder: JJ
DTSTAMP:20260421T202019Z
DTSTART:20210128T190000Z
DTEND:20210128T203000Z
SEQUENCE:0
TRANSP:OPAQUE
END:VEVENT
END:VCALENDAR