BEGIN:VCALENDAR
VERSION:2.0
PRODID:-//jEvents 2.0 for Joomla//EN
CALSCALE:GREGORIAN
METHOD:PUBLISH
BEGIN:VEVENT
UID:CSVConvert4cf59a308b7a59344b5f70d8fcaadb51
CATEGORIES:Dienstplan Einsatzabteilung 
CREATED:20210106T203959
SUMMARY:Feuerwehrausschuss - gemäß TOP
LOCATION:Schwieberdingen
DESCRIPTION;ENCODING=QUOTED-PRINTABLE:Sitzung - Feuerwehrausschuss - Themenblock: gemäß TOP - Ausbilder: JJ
DTSTAMP:20260422T075658Z
DTSTART:20210929T180000Z
DTEND:20210929T193000Z
SEQUENCE:0
TRANSP:OPAQUE
END:VEVENT
END:VCALENDAR