BEGIN:VCALENDAR
VERSION:2.0
PRODID:-//jEvents 2.0 for Joomla//EN
CALSCALE:GREGORIAN
METHOD:PUBLISH
BEGIN:VEVENT
UID:CSVConvert31327b003529eb5897ba085849596d22
CATEGORIES:Dienstplan Einsatzabteilung 
CREATED:20210106T203959
SUMMARY:Führungsgruppe - Geobyte e-LAN
LOCATION:Schwieberdingen
DESCRIPTION;ENCODING=QUOTED-PRINTABLE:Übung - Führungsgruppe - Themenblock: Geobyte e-LAN - Ausbilder: BS / JG
DTSTAMP:20260422T023924Z
DTSTART:20210519T180000Z
DTEND:20210519T193000Z
SEQUENCE:0
TRANSP:OPAQUE
END:VEVENT
END:VCALENDAR