BEGIN:VCALENDAR
VERSION:2.0
PRODID:-//jEvents 2.0 for Joomla//EN
CALSCALE:GREGORIAN
METHOD:PUBLISH
BEGIN:VEVENT
UID:CSVConvert764c5e5c7e3d94092d2344fb54483890
CATEGORIES:Dienstplan Einsatzabteilung 
CREATED:20210106T203959
SUMMARY:Führungsgruppe - Geobyte e-LAN
LOCATION:Schwieberdingen
DESCRIPTION;ENCODING=QUOTED-PRINTABLE:Übung - Führungsgruppe - Themenblock: Geobyte e-LAN - Ausbilder: BS / JG
DTSTAMP:20260422T105723Z
DTSTART:20211117T190000Z
DTEND:20211117T203000Z
SEQUENCE:0
TRANSP:OPAQUE
END:VEVENT
END:VCALENDAR