BEGIN:VCALENDAR
VERSION:2.0
PRODID:-//jEvents 2.0 for Joomla//EN
CALSCALE:GREGORIAN
METHOD:PUBLISH
BEGIN:VEVENT
UID:CSVConvert379700d067dcd18a4aa5f167dec50c82
CATEGORIES:Dienstplan Einsatzabteilung 
CREATED:20210106T203959
SUMMARY:Führungsgruppe - IuK Technik / Fernmeldeorganisation
LOCATION:Schwieberdingen
DESCRIPTION;ENCODING=QUOTED-PRINTABLE:Übung - Führungsgruppe - Themenblock: IuK Technik / Fernmeldeorganisation -
  Ausbilder: BS / SG
DTSTAMP:20260422T120705Z
DTSTART:20211108T190000Z
DTEND:20211108T203000Z
SEQUENCE:0
TRANSP:OPAQUE
END:VEVENT
END:VCALENDAR