BEGIN:VCALENDAR
VERSION:2.0
PRODID:-//jEvents 2.0 for Joomla//EN
CALSCALE:GREGORIAN
METHOD:PUBLISH
BEGIN:VEVENT
UID:CSVConvertf781aab6ab82c6dedf4172aa641bc514
CATEGORIES:Dienstplan Einsatzabteilung 
CREATED:20210106T203959
SUMMARY:Führungsgruppe - Lagekarte / taktische Zeichen
LOCATION:Schwieberdingen
DESCRIPTION;ENCODING=QUOTED-PRINTABLE:Übung - Führungsgruppe - Themenblock: Lagekarte / taktische Zeichen - Ausbi
 lder: BS / SG
DTSTAMP:20260421T235050Z
DTSTART:20210315T190000Z
DTEND:20210315T203000Z
SEQUENCE:0
TRANSP:OPAQUE
END:VEVENT
END:VCALENDAR