BEGIN:VCALENDAR
VERSION:2.0
PRODID:-//jEvents 2.0 for Joomla//EN
CALSCALE:GREGORIAN
METHOD:PUBLISH
BEGIN:VEVENT
UID:CSVConvertc10e17e9c944599728d179a83226bf82
CATEGORIES:Dienstplan Einsatzabteilung 
CREATED:20210106T203959
SUMMARY:Führungsgruppe - Zusammenarbeit mit anderen HiOrg
LOCATION:Schwieberdingen
DESCRIPTION;ENCODING=QUOTED-PRINTABLE:Übung - Führungsgruppe - Themenblock: Zusammenarbeit mit anderen HiOrg - Au
 sbilder: BS / SG
DTSTAMP:20260422T120757Z
DTSTART:20211206T190000Z
DTEND:20211206T203000Z
SEQUENCE:0
TRANSP:OPAQUE
END:VEVENT
END:VCALENDAR