BEGIN:VCALENDAR
VERSION:2.0
PRODID:-//jEvents 2.0 for Joomla//EN
CALSCALE:GREGORIAN
METHOD:PUBLISH
BEGIN:VEVENT
UID:CSVConvert0611aa8a6ab320dd28beea01adedcb8d
CATEGORIES:Dienstplan Einsatzabteilung 
CREATED:20210106T203959
SUMMARY:GELB und BLAU - Aufgaben Zentrale
LOCATION:Schwieberdingen
DESCRIPTION;ENCODING=QUOTED-PRINTABLE:Übung - GELB und BLAU - Themenblock: Aufgaben Zentrale - Ausbilder: BS / AS
DTSTAMP:20260421T221432Z
DTSTART:20210208T190000Z
DTEND:20210208T203000Z
SEQUENCE:0
TRANSP:OPAQUE
END:VEVENT
END:VCALENDAR