BEGIN:VCALENDAR
VERSION:2.0
PRODID:-//jEvents 2.0 for Joomla//EN
CALSCALE:GREGORIAN
METHOD:PUBLISH
BEGIN:VEVENT
UID:CSVConvertc31a40e12a9a3a260bd5223b72690008
CATEGORIES:Dienstplan Einsatzabteilung 
CREATED:20210106T203959
SUMMARY:GELB - Löschangriff mit Sonderrohre 
LOCATION:Schwieberdingen
DESCRIPTION;ENCODING=QUOTED-PRINTABLE:<p>Übung - GELB - Themenblock: Löschangriff mit Sonderrohre - Ausbilder: BB
  / PA</p>
DTSTAMP:20260422T041435Z
DTSTART:20210614T180000Z
DTEND:20210614T193000Z
SEQUENCE:0
TRANSP:OPAQUE
END:VEVENT
END:VCALENDAR