BEGIN:VCALENDAR
VERSION:2.0
PRODID:-//jEvents 2.0 for Joomla//EN
CALSCALE:GREGORIAN
METHOD:PUBLISH
BEGIN:VEVENT
UID:CSVConvertaa0b8a26ed8f1a13ae0dd5b9e40b7362
CATEGORIES:Dienstplan Einsatzabteilung 
CREATED:20210106T203959
SUMMARY:GELB und GRÜN - Sonderfahrzeuge RW und DLK
LOCATION:Schwieberdingen
DESCRIPTION;ENCODING=QUOTED-PRINTABLE:Übung - GELB und GRÜN - Themenblock: Sonderfahrzeuge RW und DLK - Ausbilder
 : SG / HM
DTSTAMP:20260421T235217Z
DTSTART:20210308T190000Z
DTEND:20210308T203000Z
SEQUENCE:0
TRANSP:OPAQUE
END:VEVENT
END:VCALENDAR