BEGIN:VCALENDAR
VERSION:2.0
PRODID:-//jEvents 2.0 for Joomla//EN
CALSCALE:GREGORIAN
METHOD:PUBLISH
BEGIN:VEVENT
UID:CSVConvertcbb276c736d33833bff042da47849331
CATEGORIES:Dienstplan Einsatzabteilung 
CREATED:20210106T203959
SUMMARY:BLAU - Löschangriff mit Sonderrohre
LOCATION:Schwieberdingen
DESCRIPTION;ENCODING=QUOTED-PRINTABLE:<p>Übung - BLAU - Themenblock: Löschangriff mit Sonderrohre - Ausbilder: BB
  / PA</p>
DTSTAMP:20260422T041440Z
DTSTART:20210628T180000Z
DTEND:20210628T193000Z
SEQUENCE:0
TRANSP:OPAQUE
END:VEVENT
END:VCALENDAR