BEGIN:VCALENDAR
VERSION:2.0
PRODID:-//jEvents 2.0 for Joomla//EN
CALSCALE:GREGORIAN
METHOD:PUBLISH
BEGIN:VEVENT
UID:CSVConvert878be6fb7b62dab9ccc0bcead2a3c258
CATEGORIES:Dienstplan Einsatzabteilung 
CREATED:20210106T203959
SUMMARY:Gesamtwehr - Gruppe/Zug im Hilfeleistungseinsatz
LOCATION:Schwieberdingen
DESCRIPTION;ENCODING=QUOTED-PRINTABLE:Übung - Gesamtwehr - Themenblock: Gruppe/Zug im Hilfeleistungseinsatz - Aus
 bilder: JJ / BS
DTSTAMP:20260422T023923Z
DTSTART:20210517T180000Z
DTEND:20210517T193000Z
SEQUENCE:0
TRANSP:OPAQUE
END:VEVENT
END:VCALENDAR