BEGIN:VCALENDAR
VERSION:2.0
PRODID:-//jEvents 2.0 for Joomla//EN
CALSCALE:GREGORIAN
METHOD:PUBLISH
BEGIN:VEVENT
UID:CSVConvert8ca1b9e41349de075ebed9c2fb384bc8
CATEGORIES:Dienstplan Einsatzabteilung 
CREATED:20210106T203959
SUMMARY:GRÜN und BLAU - Be- und Entlüftung / Messtechnik
LOCATION:Schwieberdingen
DESCRIPTION;ENCODING=QUOTED-PRINTABLE:Übung - GRÜN und BLAU - Themenblock: Be- und Entlüftung / Messtechnik - Aus
 bilder: HM / SP
DTSTAMP:20260421T234916Z
DTSTART:20210329T180000Z
DTEND:20210329T193000Z
SEQUENCE:0
TRANSP:OPAQUE
END:VEVENT
END:VCALENDAR