BEGIN:VCALENDAR
VERSION:2.0
PRODID:-//jEvents 2.0 for Joomla//EN
CALSCALE:GREGORIAN
METHOD:PUBLISH
BEGIN:VEVENT
UID:CSVConvert28630729856f2e647b83c0050d35cfd5
CATEGORIES:Dienstplan Einsatzabteilung 
CREATED:20210106T203959
SUMMARY:GRÜN und BLAU - Notfalltüröffnung Feuerwehr
LOCATION:Schwieberdingen
DESCRIPTION;ENCODING=QUOTED-PRINTABLE:Übung - GRÜN und BLAU - Themenblock: Notfalltüröffnung Feuerwehr - Ausbilde
 r: SW / TK
DTSTAMP:20260421T202903Z
DTSTART:20210125T190000Z
DTEND:20210125T203000Z
SEQUENCE:0
TRANSP:OPAQUE
END:VEVENT
END:VCALENDAR