BEGIN:VCALENDAR
VERSION:2.0
PRODID:-//jEvents 2.0 for Joomla//EN
CALSCALE:GREGORIAN
METHOD:PUBLISH
BEGIN:VEVENT
UID:CSVConvert4494702981a216f63fa505ca00799b0d
CATEGORIES:Dienstplan Einsatzabteilung 
CREATED:20210106T203959
SUMMARY:Helfer - Landesdelegiertenversammlung JF
LOCATION:Schwieberdingen
DESCRIPTION;ENCODING=QUOTED-PRINTABLE:Landesdelegiertenversammlung JF - Helfer - Themenblock: Landesdelegiertenve
 rsammlung JF - Ausbilder: JG
DTSTAMP:20260422T075836Z
DTSTART:20210924T170000Z
DTEND:20210925T170000Z
SEQUENCE:0
TRANSP:OPAQUE
END:VEVENT
END:VCALENDAR