BEGIN:VCALENDAR
VERSION:2.0
PRODID:-//jEvents 2.0 for Joomla//EN
CALSCALE:GREGORIAN
METHOD:PUBLISH
BEGIN:VEVENT
UID:CSVConvert78555d6617835e3b66d3f89db3f14815
CATEGORIES:Dienstplan Einsatzabteilung 
CREATED:20210106T203959
SUMMARY:Maschinisten - Jährliche Unterweisung
LOCATION:Schwieberdingen
DESCRIPTION;ENCODING=QUOTED-PRINTABLE:Übung - Maschinisten - Themenblock: Jährliche Unterweisung - Ausbilder: SW
DTSTAMP:20260421T204636Z
DTSTART:20210114T190000Z
DTEND:20210114T203000Z
SEQUENCE:0
TRANSP:OPAQUE
END:VEVENT
END:VCALENDAR