BEGIN:VCALENDAR
VERSION:2.0
PRODID:-//jEvents 2.0 for Joomla//EN
CALSCALE:GREGORIAN
METHOD:PUBLISH
BEGIN:VEVENT
UID:CSVConvertfa05dfa514c1e5a3ea078f3eb2aa5d88
CATEGORIES:Dienstplan Einsatzabteilung 
CREATED:20210106T203959
SUMMARY:Maschinisten - Kraftbetriebene Geräte u. Aggregate
LOCATION:Schwieberdingen
DESCRIPTION;ENCODING=QUOTED-PRINTABLE:Übung - Maschinisten - Themenblock: Kraftbetriebene Geräte u. Aggregate - A
 usbilder: SW
DTSTAMP:20260421T235218Z
DTSTART:20210311T190000Z
DTEND:20210311T203000Z
SEQUENCE:0
TRANSP:OPAQUE
END:VEVENT
END:VCALENDAR