BEGIN:VCALENDAR
VERSION:2.0
PRODID:-//jEvents 2.0 for Joomla//EN
CALSCALE:GREGORIAN
METHOD:PUBLISH
BEGIN:VEVENT
UID:CSVConverte3251920b83b0afb3156f1a4a2a063cd
CATEGORIES:Dienstplan Einsatzabteilung 
CREATED:20210106T203959
SUMMARY:ROT und BLAU - Sonderfahrzeuge RW und DLK
LOCATION:Schwieberdingen
DESCRIPTION;ENCODING=QUOTED-PRINTABLE:Übung - ROT und BLAU - Themenblock: Sonderfahrzeuge RW und DLK - Ausbilder:
  SG / HM
DTSTAMP:20260421T235110Z
DTSTART:20210301T190000Z
DTEND:20210301T203000Z
SEQUENCE:0
TRANSP:OPAQUE
END:VEVENT
END:VCALENDAR