BEGIN:VCALENDAR
VERSION:2.0
PRODID:-//jEvents 2.0 for Joomla//EN
CALSCALE:GREGORIAN
METHOD:PUBLISH
BEGIN:VEVENT
UID:CSVConvertced36475a6773f33aafe870cff34dcc7
CATEGORIES:Dienstplan Einsatzabteilung 
CREATED:20210106T203959
SUMMARY:GRÜN - Löschangriff mit Sonderrohre
LOCATION:Schwieberdingen
DESCRIPTION;ENCODING=QUOTED-PRINTABLE:<p>Übung - GRÜN - Themenblock: Löschangriff mit Sonderrohre - Ausbilder: BB
  / PA</p>
DTSTAMP:20260422T041435Z
DTSTART:20210621T180000Z
DTEND:20210621T193000Z
SEQUENCE:0
TRANSP:OPAQUE
END:VEVENT
END:VCALENDAR