BEGIN:VCALENDAR
VERSION:2.0
PRODID:-//jEvents 2.0 for Joomla//EN
CALSCALE:GREGORIAN
METHOD:PUBLISH
BEGIN:VEVENT
UID:CSVConvertb116d3312c2f678b06f3dec273821121
CATEGORIES:Dienstplan Einsatzabteilung 
CREATED:20210106T203959
SUMMARY:ROT und GELB - Be- und Entlüftung / Messtechnik
LOCATION:Schwieberdingen
DESCRIPTION;ENCODING=QUOTED-PRINTABLE:Übung - ROT und GELB - Themenblock: Be- und Entlüftung / Messtechnik - Ausb
 ilder: HM / SP
DTSTAMP:20260421T234936Z
DTSTART:20210322T190000Z
DTEND:20210322T203000Z
SEQUENCE:0
TRANSP:OPAQUE
END:VEVENT
END:VCALENDAR