BEGIN:VCALENDAR
VERSION:2.0
PRODID:-//jEvents 2.0 for Joomla//EN
CALSCALE:GREGORIAN
METHOD:PUBLISH
BEGIN:VEVENT
UID:CSVConvert82919dce93fe731737af0463e01e6940
CATEGORIES:Dienstplan Einsatzabteilung 
CREATED:20210106T203959
SUMMARY:ROT und GELB - Notfalltüröffnung Feuerwehr
LOCATION:Schwieberdingen
DESCRIPTION;ENCODING=QUOTED-PRINTABLE:Übung - ROT und GELB - Themenblock: Notfalltüröffnung Feuerwehr - Ausbilder
 : SW / TK
DTSTAMP:20260421T204712Z
DTSTART:20210118T190000Z
DTEND:20210118T203000Z
SEQUENCE:0
TRANSP:OPAQUE
END:VEVENT
END:VCALENDAR