BEGIN:VCALENDAR
VERSION:2.0
PRODID:-//jEvents 2.0 for Joomla//EN
CALSCALE:GREGORIAN
METHOD:PUBLISH
BEGIN:VEVENT
UID:CSVConvert2b482839e075af002b0dfc00826e974e
CATEGORIES:Dienstplan Einsatzabteilung 
CREATED:20210106T203959
SUMMARY:ROT und GRÜN - Aufgaben Zentrale
LOCATION:Schwieberdingen
DESCRIPTION;ENCODING=QUOTED-PRINTABLE:Übung - ROT und GRÜN - Themenblock: Aufgaben Zentrale - Ausbilder: BS / AS
DTSTAMP:20260421T235217Z
DTSTART:20210201T190000Z
DTEND:20210201T203000Z
SEQUENCE:0
TRANSP:OPAQUE
END:VEVENT
END:VCALENDAR