BEGIN:VCALENDAR
VERSION:2.0
PRODID:-//jEvents 2.0 for Joomla//EN
CALSCALE:GREGORIAN
METHOD:PUBLISH
BEGIN:VEVENT
UID:CSVConvert1fa5aa4fa4f0318714ca928e0963f55e
CATEGORIES:Dienstplan Einsatzabteilung 
CREATED:20210106T203959
SUMMARY:ROT - Löschangriff mit Sonderrohre 
LOCATION:Schwieberdingen
DESCRIPTION;ENCODING=QUOTED-PRINTABLE:\n\nÜbung - ROT - Themenblock: Löschangriff mit Sonderrohre - Ausbilder: BB
  / PA\n
DTSTAMP:20260422T041436Z
DTSTART:20210607T180000Z
DTEND:20210607T193000Z
SEQUENCE:0
TRANSP:OPAQUE
END:VEVENT
END:VCALENDAR