BEGIN:VCALENDAR
VERSION:2.0
PRODID:-//jEvents 2.0 for Joomla//EN
CALSCALE:GREGORIAN
METHOD:PUBLISH
BEGIN:VEVENT
UID:CSVConvert4f8f746cd1e440f3ce2dd07b4e67bd18
CATEGORIES:Dienstplan Einsatzabteilung 
CREATED:20210106T203959
SUMMARY:Zug- und Gruppenführer - Brandmeldetechnik / Brandmeldealarm
LOCATION:Schwieberdingen
DESCRIPTION;ENCODING=QUOTED-PRINTABLE:Übung - Zug- und Gruppenführer - Themenblock: Brandmeldetechnik / Brandmeld
 ealarm - Ausbilder: BS / SG
DTSTAMP:20260422T102815Z
DTSTART:20211018T180000Z
DTEND:20211018T193000Z
SEQUENCE:0
TRANSP:OPAQUE
END:VEVENT
END:VCALENDAR