BEGIN:VCALENDAR
VERSION:2.0
PRODID:-//jEvents 2.0 for Joomla//EN
CALSCALE:GREGORIAN
METHOD:PUBLISH
BEGIN:VEVENT
UID:CSVConvert8d6ca367b727aa2af0673a9fb0c7f665
CATEGORIES:Dienstplan Einsatzabteilung 
CREATED:20210106T203959
SUMMARY:Zug- und Gruppenführer - Einsatztaktik 
LOCATION:Schwieberdingen
DESCRIPTION;ENCODING=QUOTED-PRINTABLE:Übung - Zug- und Gruppenführer - Themenblock: Einsatztaktik  - Ausbilder: J
 J / BS / SG
DTSTAMP:20260422T004808Z
DTSTART:20210215T190000Z
DTEND:20210215T203000Z
SEQUENCE:0
TRANSP:OPAQUE
END:VEVENT
END:VCALENDAR