BEGIN:VCALENDAR
VERSION:2.0
PRODID:-//jEvents 2.0 for Joomla//EN
CALSCALE:GREGORIAN
METHOD:PUBLISH
BEGIN:VEVENT
UID:CSVConvert1fd23dbda602822951aadad9875302bf
CATEGORIES:Dienstplan Einsatzabteilung 
CREATED:20210106T203959
SUMMARY:Zug- und Gruppenführer - Einsatztaktik Brandeinsatz
LOCATION:Schwieberdingen
DESCRIPTION;ENCODING=QUOTED-PRINTABLE:Übung - Zug- und Gruppenführer - Themenblock: Einsatztaktik Brandeinsatz - 
 Ausbilder: JJ / BS / SG
DTSTAMP:20260422T052839Z
DTSTART:20210715T180000Z
DTEND:20210715T193000Z
SEQUENCE:0
TRANSP:OPAQUE
END:VEVENT
END:VCALENDAR