BEGIN:VCALENDAR
VERSION:2.0
PRODID:-//jEvents 2.0 for Joomla//EN
CALSCALE:GREGORIAN
METHOD:PUBLISH
BEGIN:VEVENT
UID:CSVConvertb846d1711e40240bc7f06b7e3a22819c
CATEGORIES:Dienstplan Einsatzabteilung 
CREATED:20210106T203959
SUMMARY:Zug- und Gruppenführer - Einsatztaktik Hilfeleistungseinsatz
LOCATION:Schwieberdingen
DESCRIPTION;ENCODING=QUOTED-PRINTABLE:Übung - Zug- und Gruppenführer - Themenblock: Einsatztaktik Hilfeleistungse
 insatz - Ausbilder: BS / SG
DTSTAMP:20260422T023923Z
DTSTART:20210503T180000Z
DTEND:20210503T193000Z
SEQUENCE:0
TRANSP:OPAQUE
END:VEVENT
END:VCALENDAR