BEGIN:VCALENDAR
VERSION:2.0
PRODID:-//jEvents 2.0 for Joomla//EN
CALSCALE:GREGORIAN
METHOD:PUBLISH
BEGIN:VEVENT
UID:CSVConvert36a334c6e1330bea1f911fd559f7a031
CATEGORIES:Dienstplan Einsatzabteilung 
CREATED:20210106T203959
SUMMARY:Zug- und Gruppenführer - Themensammlung
LOCATION:Schwieberdingen
DESCRIPTION;ENCODING=QUOTED-PRINTABLE:Übung - Zug- und Gruppenführer - Themenblock: Themensammlung - Ausbilder: B
 S / SG
DTSTAMP:20260422T105318Z
DTSTART:20211129T190000Z
DTEND:20211129T203000Z
SEQUENCE:0
TRANSP:OPAQUE
END:VEVENT
END:VCALENDAR