BEGIN:VCALENDAR
VERSION:2.0
PRODID:-//jEvents 2.0 for Joomla//EN
CALSCALE:GREGORIAN
METHOD:PUBLISH
BEGIN:VEVENT
UID:5a3da2631917d1b957e79aba30524106
CATEGORIES:Ferien Baden-Württemberg
CREATED:20201004T142824
SUMMARY:Faschingsferien 2021
DESCRIPTION;ENCODING=QUOTED-PRINTABLE:
DTSTAMP:20260422T012530Z
DTSTART;VALUE=DATE:20210215
DTEND;VALUE=DATE:20210221
SEQUENCE:0
TRANSP:OPAQUE
END:VEVENT
END:VCALENDAR