BEGIN:VCALENDAR
VERSION:2.0
PRODID:-//jEvents 2.0 for Joomla//EN
CALSCALE:GREGORIAN
METHOD:PUBLISH
BEGIN:VEVENT
UID:F_2021_termin5f792343b2a1e@schulferien.org
CATEGORIES:Ferien Baden-Württemberg
CREATED:20201004T142721
SUMMARY:Herbstferien 2021 Baden-Württemberg
DESCRIPTION;ENCODING=QUOTED-PRINTABLE:Alle Termine auf www.schulferien.org
DTSTAMP:20260422T110934Z
DTSTART;VALUE=DATE:20211031
DTEND;VALUE=DATE:20211101
SEQUENCE:0
TRANSP:OPAQUE
END:VEVENT
END:VCALENDAR