BEGIN:VCALENDAR
VERSION:2.0
PRODID:-//jEvents 2.0 for Joomla//EN
CALSCALE:GREGORIAN
METHOD:PUBLISH
BEGIN:VEVENT
UID:FT_2021_feiertag5f792343abd4c@schulferien.org
CATEGORIES:Ferien Baden-Württemberg
CREATED:20201004T142643
SUMMARY:1. Weihnachtsfeiertag
DESCRIPTION;ENCODING=QUOTED-PRINTABLE:Alle Termine auf www.schulferien.org
DTSTAMP:20260424T154235Z
DTSTART;VALUE=DATE:20211225
DTEND;VALUE=DATE:20211226
SEQUENCE:0
TRANSP:OPAQUE
END:VEVENT
END:VCALENDAR