BEGIN:VCALENDAR
VERSION:2.0
PRODID:-//jEvents 2.0 for Joomla//EN
CALSCALE:GREGORIAN
METHOD:PUBLISH
BEGIN:VEVENT
UID:FT_2021_feiertag5f792343a3dcf@schulferien.org
CATEGORIES:Ferien Baden-Württemberg
CREATED:20201004T142643
SUMMARY:Tag der Deutschen Einheit
DESCRIPTION;ENCODING=QUOTED-PRINTABLE:Alle Termine auf www.schulferien.org
DTSTAMP:20260422T122754Z
DTSTART;VALUE=DATE:20211003
DTEND;VALUE=DATE:20211004
SEQUENCE:0
TRANSP:OPAQUE
END:VEVENT
END:VCALENDAR