BEGIN:VCALENDAR
VERSION:2.0
PRODID:-//jEvents 2.0 for Joomla//EN
CALSCALE:GREGORIAN
METHOD:PUBLISH
BEGIN:VEVENT
UID:e5db72a7badbcc32969b9bd5f194b06c
CATEGORIES:Dienstplan Jugendfeuerwehr
CREATED:20200827T213539
SUMMARY:Uebung - Gruppe ROT
DESCRIPTION;ENCODING=QUOTED-PRINTABLE:<p>Uebungsleiter: Simon</p>
DTSTAMP:20260421T232653Z
DTSTART:20201210T173000Z
DTEND:20201210T190000Z
SEQUENCE:0
TRANSP:OPAQUE
END:VEVENT
END:VCALENDAR