BEGIN:VCALENDAR
VERSION:2.0
PRODID:-//jEvents 2.0 for Joomla//EN
CALSCALE:GREGORIAN
METHOD:PUBLISH
BEGIN:VEVENT
UID:09077cbd70aac7faae9f3018c3609692
CATEGORIES:Dienstplan Jugendfeuerwehr
CREATED:20200827T213519
SUMMARY:Uebung - Gruppe ORANGE
DESCRIPTION;ENCODING=QUOTED-PRINTABLE:\n\nUebungsleiter: Simon\n
DTSTAMP:20260421T231246Z
DTSTART:20201203T173000Z
DTEND:20201203T190000Z
SEQUENCE:0
TRANSP:OPAQUE
END:VEVENT
END:VCALENDAR