BEGIN:VCALENDAR
VERSION:2.0
PRODID:-//jEvents 2.0 for Joomla//EN
CALSCALE:GREGORIAN
METHOD:PUBLISH
BEGIN:VEVENT
UID:8eaf462fcf1dd771678b9678a2c12122
CATEGORIES:Dienstplan Jugendfeuerwehr
CREATED:20200827T213433
SUMMARY:Uebung - Gruppe GELB
DESCRIPTION;ENCODING=QUOTED-PRINTABLE:<p>Uebungsleiter: Simon</p>
DTSTAMP:20260421T185648Z
DTSTART:20201126T173000Z
DTEND:20201126T190000Z
SEQUENCE:0
TRANSP:OPAQUE
END:VEVENT
END:VCALENDAR