BEGIN:VCALENDAR
VERSION:2.0
PRODID:-//jEvents 2.0 for Joomla//EN
CALSCALE:GREGORIAN
METHOD:PUBLISH
BEGIN:VEVENT
UID:bc2b084516d4e9f6ab84b4641684daa6
CATEGORIES:Dienstplan Jugendfeuerwehr
CREATED:20200827T213337
SUMMARY:Uebung - Gruppe ORANGE
DESCRIPTION;ENCODING=QUOTED-PRINTABLE:\n\nUebungsleiter: Sven\n
DTSTAMP:20260423T123022Z
DTSTART:20201112T173000Z
DTEND:20201112T190000Z
SEQUENCE:0
TRANSP:OPAQUE
END:VEVENT
END:VCALENDAR