BEGIN:VCALENDAR
VERSION:2.0
PRODID:-//jEvents 2.0 for Joomla//EN
CALSCALE:GREGORIAN
METHOD:PUBLISH
BEGIN:VEVENT
UID:e287cd4ee42bf7c8639f349573093356
CATEGORIES:Dienstplan Jugendfeuerwehr
CREATED:20200827T212800
SUMMARY:Uebung - Gruppe ORANGE
DESCRIPTION;ENCODING=QUOTED-PRINTABLE:<p>Uebungsleiter: Jens</p>
DTSTAMP:20260421T143049Z
DTSTART:20200924T163000Z
DTEND:20200924T180000Z
SEQUENCE:0
TRANSP:OPAQUE
END:VEVENT
END:VCALENDAR