BEGIN:VCALENDAR
VERSION:2.0
PRODID:-//jEvents 2.0 for Joomla//EN
CALSCALE:GREGORIAN
METHOD:PUBLISH
BEGIN:VEVENT
UID:7989735c22328ab8dd6d272b0431522d
CATEGORIES:Dienstplan Einsatzabteilung 
CREATED:20200629T160048
SUMMARY:Gruppe Gelb 1
DESCRIPTION;ENCODING=QUOTED-PRINTABLE:
DTSTAMP:20260423T100227Z
DTSTART:20200625T180000Z
DTEND:20200625T193000Z
SEQUENCE:0
TRANSP:OPAQUE
END:VEVENT
END:VCALENDAR