BEGIN:VCALENDAR
VERSION:2.0
PRODID:-//jEvents 2.0 for Joomla//EN
CALSCALE:GREGORIAN
METHOD:PUBLISH
BEGIN:VEVENT
UID:ad25c553a0c9d7c6ab1e9b324f127c0b
CATEGORIES:Dienstplan Einsatzabteilung 
CREATED:20200629T160030
SUMMARY:Gruppe Rot 1
DESCRIPTION;ENCODING=QUOTED-PRINTABLE:
DTSTAMP:20260421T090521Z
DTSTART:20200622T180000Z
DTEND:20200622T193000Z
SEQUENCE:0
TRANSP:OPAQUE
END:VEVENT
END:VCALENDAR