BEGIN:VCALENDAR
VERSION:2.0
PRODID:-//jEvents 2.0 for Joomla//EN
CALSCALE:GREGORIAN
METHOD:PUBLISH
BEGIN:VEVENT
UID:07b083645b95f5d53cb68ad0bb66ccd2
CATEGORIES:Dienstplan Einsatzabteilung 
CREATED:20200629T155917
SUMMARY:Gruppe Blau 1
DESCRIPTION;ENCODING=QUOTED-PRINTABLE:
DTSTAMP:20260421T105146Z
DTSTART:20200730T180000Z
DTEND:20200730T193000Z
SEQUENCE:0
TRANSP:OPAQUE
END:VEVENT
END:VCALENDAR