BEGIN:VCALENDAR
VERSION:2.0
PRODID:-//jEvents 2.0 for Joomla//EN
CALSCALE:GREGORIAN
METHOD:PUBLISH
BEGIN:VEVENT
UID:b540d33330df5979e44e4b9628b52ad6
CATEGORIES:Dienstplan Einsatzabteilung 
CREATED:20200629T155830
SUMMARY:Gruppe Gelb 1
DESCRIPTION;ENCODING=QUOTED-PRINTABLE:
DTSTAMP:20260421T135727Z
DTSTART:20200723T180000Z
DTEND:20200723T193000Z
SEQUENCE:0
TRANSP:OPAQUE
END:VEVENT
END:VCALENDAR