BEGIN:VCALENDAR
VERSION:2.0
PRODID:-//jEvents 2.0 for Joomla//EN
CALSCALE:GREGORIAN
METHOD:PUBLISH
BEGIN:VEVENT
UID:e7e8e657f1035cb254ebcdbb772a0ae5
CATEGORIES:Dienstplan Einsatzabteilung 
CREATED:20200629T155745
SUMMARY:Gruppe Blau 2
DESCRIPTION;ENCODING=QUOTED-PRINTABLE:
DTSTAMP:20260421T105132Z
DTSTART:20200716T180000Z
DTEND:20200716T193000Z
SEQUENCE:0
TRANSP:OPAQUE
END:VEVENT
END:VCALENDAR