BEGIN:VCALENDAR
VERSION:2.0
PRODID:-//jEvents 2.0 for Joomla//EN
CALSCALE:GREGORIAN
METHOD:PUBLISH
BEGIN:VEVENT
UID:c014f959459f64cf5e4fd2352d677c83
CATEGORIES:Dienstplan Einsatzabteilung 
CREATED:20200629T155726
SUMMARY:Gruppe Grün 2
DESCRIPTION;ENCODING=QUOTED-PRINTABLE:
DTSTAMP:20260421T104702Z
DTSTART:20200713T180000Z
DTEND:20200713T193000Z
SEQUENCE:0
TRANSP:OPAQUE
END:VEVENT
END:VCALENDAR