BEGIN:VCALENDAR
VERSION:2.0
PRODID:-//jEvents 2.0 for Joomla//EN
CALSCALE:GREGORIAN
METHOD:PUBLISH
BEGIN:VEVENT
UID:ae1f3336687cd377a337ccbfdfb1a273
CATEGORIES:Dienstplan Einsatzabteilung 
CREATED:20200629T155705
SUMMARY:Gruppe Gelb 2
DESCRIPTION;ENCODING=QUOTED-PRINTABLE:
DTSTAMP:20260421T104947Z
DTSTART:20200709T180000Z
DTEND:20200709T193000Z
SEQUENCE:0
TRANSP:OPAQUE
END:VEVENT
END:VCALENDAR