BEGIN:VCALENDAR
VERSION:2.0
PRODID:-//jEvents 2.0 for Joomla//EN
CALSCALE:GREGORIAN
METHOD:PUBLISH
BEGIN:VEVENT
UID:50dd9c6eda57ea357795f3ed2d64674c
CATEGORIES:Dienstplan Einsatzabteilung 
CREATED:20200629T155541
SUMMARY:Ausschusssitzung
DESCRIPTION;ENCODING=QUOTED-PRINTABLE:
DTSTAMP:20260421T105321Z
DTSTART:20200701T180000Z
DTEND:20200701T193000Z
SEQUENCE:0
TRANSP:OPAQUE
END:VEVENT
END:VCALENDAR