BEGIN:VCALENDAR
VERSION:2.0
PRODID:-//jEvents 2.0 for Joomla//EN
CALSCALE:GREGORIAN
METHOD:PUBLISH
BEGIN:VEVENT
UID:b0778c4a72c9308af18c0e3cd554e2d0
CATEGORIES:Dienstplan Einsatzabteilung 
CREATED:20200629T155345
SUMMARY:Gruppe Blau 1
DESCRIPTION;ENCODING=QUOTED-PRINTABLE:
DTSTAMP:20260421T104759Z
DTSTART:20200702T180000Z
DTEND:20200702T193000Z
SEQUENCE:0
TRANSP:OPAQUE
END:VEVENT
END:VCALENDAR