BEGIN:VCALENDAR
VERSION:2.0
PRODID:-//jEvents 2.0 for Joomla//EN
CALSCALE:GREGORIAN
METHOD:PUBLISH
BEGIN:VEVENT
UID:AAAAAH+7XGaHWyBOi2ko1kLwtIIEtCQA
CATEGORIES:Dienstplan Jugendfeuerwehr
CREATED:20200109T235704
SUMMARY:Uebung - Gruppe ROT
LOCATION:Schwieberdingen
DESCRIPTION;ENCODING=QUOTED-PRINTABLE:<p>Uebungsleiter: Sven</p>
DTSTAMP:20260421T185038Z
DTSTART:20201119T173000Z
DTEND:20201119T190000Z
SEQUENCE:0
TRANSP:OPAQUE
END:VEVENT
END:VCALENDAR