BEGIN:VCALENDAR
VERSION:2.0
PRODID:-//jEvents 2.0 for Joomla//EN
CALSCALE:GREGORIAN
METHOD:PUBLISH
BEGIN:VEVENT
UID:AAAAAH+7XGaHWyBOi2ko1kLwtILEsyQA
CATEGORIES:Dienstplan Jugendfeuerwehr
CREATED:20200109T235704
SUMMARY:Uebung - Gruppe GELB
LOCATION:Schwieberdingen
DESCRIPTION;ENCODING=QUOTED-PRINTABLE:<p>Uebungsleiter: Sven</p>
DTSTAMP:20260421T185059Z
DTSTART:20201105T173000Z
DTEND:20201105T190000Z
SEQUENCE:0
TRANSP:OPAQUE
END:VEVENT
END:VCALENDAR